BEGIN:VCALENDAR
VERSION:2.0
PRODID:-//hacksw/handcal//NONSGML v1.0//EN
BEGIN:VEVENT
SUMMARY:ES DE VILLIERS - VB LA ROCHETTE 2
UID:17db2fde-4ee7-47c7-bf5e-2927e56b9ef9
DTSTART:20260411T120000Z
DTEND:20260411T220000Z
LOCATION:Localisation   
CATEGORIES:Sportif
STATUS:
URL;VALUE=URI:https://www.vblarochette.com/evenements/2026/04/11/es-de-villiers-vb-la-rochette-2-2439726
END:VEVENT
END:VCALENDAR
