BEGIN:VCALENDAR
VERSION:2.0
PRODID:-//hacksw/handcal//NONSGML v1.0//EN
BEGIN:VEVENT
SUMMARY:JEANNE D ARC DE ROSNY - VB LA ROCHETTE 2
UID:90a9b05d-a4cd-41ba-8c9c-ae77aa77a966
DTSTART:20260411T120000Z
DTEND:20260411T220000Z
LOCATION:Localisation   
CATEGORIES:Sportif
STATUS:
URL;VALUE=URI:https://www.vblarochette.com/evenements/2026/04/11/jeanne-d-arc-de-rosny-vb-la-rochette-2-2439718
END:VEVENT
END:VCALENDAR
