BEGIN:VCALENDAR
VERSION:2.0
PRODID:-//hacksw/handcal//NONSGML v1.0//EN
BEGIN:VEVENT
SUMMARY:MELUN VDS VB - VB LA ROCHETTE
UID:0bc587f2-8019-4bd7-89de-8a3cfa3cc0bc
DTSTART:20260411T120000Z
DTEND:20260411T220000Z
LOCATION:Localisation   
CATEGORIES:Sportif
STATUS:
URL;VALUE=URI:https://www.vblarochette.com/evenements/2026/04/11/melun-vds-vb-vb-la-rochette-2439720
END:VEVENT
END:VCALENDAR
