BEGIN:VCALENDAR
VERSION:2.0
PRODID:-//hacksw/handcal//NONSGML v1.0//EN
BEGIN:VEVENT
SUMMARY:USJ MITRY V.B. - VB LA ROCHETTE
UID:5ce70222-c4b8-490e-833a-ef8ec500e3f5
DTSTART:20260411T120000Z
DTEND:20260411T220000Z
LOCATION:Localisation   
CATEGORIES:Sportif
STATUS:
URL;VALUE=URI:https://www.vblarochette.com/evenements/2026/04/11/usj-mitry-vb-vb-la-rochette-2439721
END:VEVENT
END:VCALENDAR
