BEGIN:VCALENDAR
VERSION:2.0
PRODID:-//hacksw/handcal//NONSGML v1.0//EN
BEGIN:VEVENT
SUMMARY:VC CHAMPS SUR MARNE - VB LA ROCHETTE
UID:f6a07533-105c-458f-aabb-a08f50164ba6
DTSTART:20260411T120000Z
DTEND:20260411T220000Z
LOCATION:Localisation   
CATEGORIES:Sportif
STATUS:
URL;VALUE=URI:https://www.vblarochette.com/evenements/2026/04/11/vc-champs-sur-marne-vb-la-rochette-2439723
END:VEVENT
END:VCALENDAR
