BEGIN:VCALENDAR
VERSION:2.0
PRODID:-//hacksw/handcal//NONSGML v1.0//EN
BEGIN:VEVENT
SUMMARY:ANTONY VOLLEY - VB LA ROCHETTE
UID:62e2d5fc-4480-4df0-bc78-984aea9d9ed6
DTSTART:20260412T080000Z
DTEND:20260412T220000Z
LOCATION:Localisation   
CATEGORIES:Sportif
STATUS:
URL;VALUE=URI:https://www.vblarochette.com/evenements/2026/04/12/antony-volley-vb-la-rochette-2438518
END:VEVENT
END:VCALENDAR
