BEGIN:VCALENDAR
VERSION:2.0
PRODID:-//hacksw/handcal//NONSGML v1.0//EN
BEGIN:VEVENT
SUMMARY:NOISY LE GRAND VB1 - VB LA ROCHETTE 1
UID:d4a187d7-07c4-442f-8bb7-ae3d8bda3aa3
DTSTART:20260412T080000Z
DTEND:20260412T220000Z
LOCATION:Localisation   
CATEGORIES:Sportif
STATUS:
URL;VALUE=URI:https://www.vblarochette.com/evenements/2026/04/12/noisy-le-grand-vb1-vb-la-rochette-1-2438517
END:VEVENT
END:VCALENDAR
