BEGIN:VCALENDAR
VERSION:2.0
PRODID:-//hacksw/handcal//NONSGML v1.0//EN
BEGIN:VEVENT
SUMMARY:PARIS AMICALE CAMOU - VB LA ROCHETTE
UID:fcad0327-6d49-4183-a606-68b593ba767e
DTSTART:20260412T080000Z
DTEND:20260412T220000Z
LOCATION:Localisation   
CATEGORIES:Sportif
STATUS:
URL;VALUE=URI:https://www.vblarochette.com/evenements/2026/04/12/paris-amicale-camou-vb-la-rochette-2438519
END:VEVENT
END:VCALENDAR
